BEGIN:VCALENDAR
VERSION:2.0
PRODID:calendify.com
BEGIN:VEVENT
UID:calendify-session-awKMmeLaMmP
DTSTART:20211228T220000Z
SEQUENCE:0
TRANSP:OPAQUE
DTEND:20211228T230000Z
URL:https://calendify.com/session/awKMmeLaMmP
LOCATION:ChaosZone TV
SUMMARY:Drum and Bass in Video Games and Other Japanese Synth House Music (
 DJ)
CLASS:PUBLIC
DESCRIPTION:https://calendify.com/session/awKMmeLaMmP
DTSTAMP:20260422T111039Z
CREATED:20211220T014016Z
LAST-MODIFIED:20211230T225002Z
END:VEVENT
END:VCALENDAR