BEGIN:VCALENDAR
VERSION:2.0
PRODID:calendify.com
BEGIN:VEVENT
UID:calendify-session-awKMmeVJMmP
DTSTART:20210308T133000Z
SEQUENCE:0
TRANSP:OPAQUE
URL:https://calendify.com/session/awKMmeVJMmP
LOCATION:Art and Media
SUMMARY:The Gratitude Machine Showcase
CLASS:PUBLIC
DESCRIPTION:https://calendify.com/session/awKMmeVJMmP
DTSTAMP:20260420T220531Z
CREATED:20210426T094926Z
LAST-MODIFIED:20210426T094926Z
END:VEVENT
END:VCALENDAR