BEGIN:VCALENDAR
VERSION:2.0
PRODID:calendify.com
BEGIN:VEVENT
UID:calendify-session-awKMmewQMmP
DTSTART:20210311T170000Z
SEQUENCE:0
TRANSP:OPAQUE
DTEND:20210311T180000Z
URL:https://calendify.com/session/awKMmewQMmP
LOCATION:Spatial Chat / Social 1
SUMMARY:Black Interrogations of AI with the 2021 Creative Media Awardees
CLASS:PUBLIC
DESCRIPTION:https://calendify.com/session/awKMmewQMmP
DTSTAMP:20260422T180550Z
CREATED:20210426T094928Z
LAST-MODIFIED:20210426T094928Z
END:VEVENT
END:VCALENDAR