BEGIN:VCALENDAR
VERSION:2.0
PRODID:calendify.com
BEGIN:VEVENT
UID:calendify-session-awKMmewRMmP
DTSTART:20210311T144500Z
SEQUENCE:0
TRANSP:OPAQUE
DTEND:20210311T154500Z
URL:https://calendify.com/session/awKMmewRMmP
LOCATION:Zoom Room 5B
SUMMARY:Universal Registry of Things - promoting the reuse of materials and
  objects in smart cities
CLASS:PUBLIC
DESCRIPTION:https://calendify.com/session/awKMmewRMmP
DTSTAMP:20260425T140954Z
CREATED:20210426T094928Z
LAST-MODIFIED:20210426T094928Z
END:VEVENT
END:VCALENDAR