BEGIN:VCALENDAR
VERSION:2.0
PRODID:calendify.com
BEGIN:VEVENT
UID:calendify-session-awKMml1JOmP
DTSTART:20231228T180000Z
SEQUENCE:0
TRANSP:OPAQUE
DTEND:20231228T183000Z
URL:https://calendify.com/session/awKMml1JOmP
LOCATION:Stage H
SUMMARY:Triff die Digitalcourage-Ortsgruppen!
CLASS:PUBLIC
DESCRIPTION:https://calendify.com/session/awKMml1JOmP
DTSTAMP:20260423T003524Z
CREATED:20231221T100104Z
LAST-MODIFIED:20240401T142932Z
END:VEVENT
END:VCALENDAR