BEGIN:VCALENDAR
VERSION:2.0
PRODID:calendify.com
BEGIN:VEVENT
UID:calendify-session-awKMml99OmP
DTSTART:20230902T110000Z
SEQUENCE:0
TRANSP:OPAQUE
DTEND:20230902T115000Z
URL:https://calendify.com/session/awKMml99OmP
LOCATION:C205 - Gehirnwäscher
SUMMARY:Ansible für Einsteiger
CLASS:PUBLIC
DESCRIPTION:https://calendify.com/session/awKMml99OmP
DTSTAMP:20260422T183039Z
CREATED:20240328T132702Z
LAST-MODIFIED:20240328T132702Z
END:VEVENT
END:VCALENDAR