BEGIN:VCALENDAR
VERSION:2.0
PRODID:calendify.com
BEGIN:VEVENT
UID:calendify-session-awKMmlGXOmP
DTSTART:20230915T150000Z
SEQUENCE:0
TRANSP:OPAQUE
DTEND:20230915T163000Z
URL:https://calendify.com/session/awKMmlGXOmP
LOCATION:Henny-Brenner-Saal
SUMMARY:3 years after uprising in Belarus - political situation and repress
 ions in the coutry
CLASS:PUBLIC
DESCRIPTION:https://calendify.com/session/awKMmlGXOmP
DTSTAMP:20260420T111144Z
CREATED:20230913T231053Z
LAST-MODIFIED:20230916T002352Z
END:VEVENT
END:VCALENDAR