BEGIN:VCALENDAR
VERSION:2.0
PRODID:calendify.com
BEGIN:VEVENT
UID:calendify-session-awKMmlJXOmP
DTSTART:20240531T200000Z
SEQUENCE:0
TRANSP:OPAQUE
DTEND:20240531T213000Z
URL:https://calendify.com/session/awKMmlJXOmP
LOCATION:HfG Raum 115
SUMMARY:Pole Fitness Workshop
CLASS:PUBLIC
DESCRIPTION:https://calendify.com/session/awKMmlJXOmP
DTSTAMP:20260424T052731Z
CREATED:20240531T122740Z
LAST-MODIFIED:20240602T132303Z
END:VEVENT
END:VCALENDAR