BEGIN:VCALENDAR
VERSION:2.0
PRODID:calendify.com
BEGIN:VEVENT
UID:calendify-session-awKMmlPnOmP
DTSTART:20231228T140000Z
SEQUENCE:0
TRANSP:OPAQUE
DTEND:20231228T150000Z
URL:https://calendify.com/session/awKMmlPnOmP
LOCATION:Round Table [CDC Saal 3]
SUMMARY:On the limits of decentralization
CLASS:PUBLIC
DESCRIPTION:https://calendify.com/session/awKMmlPnOmP
DTSTAMP:20260423T015702Z
CREATED:20231227T154002Z
LAST-MODIFIED:20240401T142932Z
END:VEVENT
END:VCALENDAR