BEGIN:VCALENDAR
VERSION:2.0
PRODID:calendify.com
BEGIN:VEVENT
UID:calendify-session-awKMmlQaOmP
DTSTART:20231230T144500Z
SEQUENCE:0
TRANSP:OPAQUE
DTEND:20231230T152500Z
URL:https://calendify.com/session/awKMmlQaOmP
LOCATION:Saal Zuse
SUMMARY:Öffnet eure Spaces für Gehörlose!
CLASS:PUBLIC
DESCRIPTION:https://calendify.com/session/awKMmlQaOmP
DTSTAMP:20260421T202537Z
CREATED:20231215T204822Z
LAST-MODIFIED:20240401T142934Z
END:VEVENT
END:VCALENDAR