BEGIN:VCALENDAR
VERSION:2.0
PRODID:calendify.com
BEGIN:VEVENT
UID:calendify-session-awKMmlZNOmP
DTSTART:20231229T181500Z
SEQUENCE:0
TRANSP:OPAQUE
DTEND:20231229T183000Z
URL:https://calendify.com/session/awKMmlZNOmP
LOCATION:Stage Y
SUMMARY:You are doing trees wrong
CLASS:PUBLIC
DESCRIPTION:https://calendify.com/session/awKMmlZNOmP
DTSTAMP:20260423T030551Z
CREATED:20231228T195003Z
LAST-MODIFIED:20240401T142932Z
END:VEVENT
END:VCALENDAR