BEGIN:VCALENDAR
VERSION:2.0
PRODID:calendify.com
BEGIN:VEVENT
UID:calendify-session-awKMmljzOmP
DTSTART:20240331T190000Z
SEQUENCE:0
TRANSP:OPAQUE
DTEND:20240331T203000Z
URL:https://calendify.com/session/awKMmljzOmP
LOCATION:Walhacka - D002
SUMMARY:State of Bahn Reisendeninformation
CLASS:PUBLIC
DESCRIPTION:https://calendify.com/session/awKMmljzOmP
DTSTAMP:20260421T165058Z
CREATED:20240328T125152Z
LAST-MODIFIED:20240401T142841Z
END:VEVENT
END:VCALENDAR