BEGIN:VCALENDAR
VERSION:2.0
PRODID:calendify.com
BEGIN:VEVENT
UID:calendify-session-awKMmlp9OmP
DTSTART:20230817T220000Z
SEQUENCE:0
TRANSP:OPAQUE
DTEND:20230817T230000Z
URL:https://calendify.com/session/awKMmlp9OmP
LOCATION:Culture Club
SUMMARY:GAL-IENS
CLASS:PUBLIC
DESCRIPTION:https://calendify.com/session/awKMmlp9OmP
DTSTAMP:20260420T125139Z
CREATED:20230814T145230Z
LAST-MODIFIED:20240401T150802Z
END:VEVENT
END:VCALENDAR