BEGIN:VCALENDAR
VERSION:2.0
PRODID:calendify.com
BEGIN:VEVENT
UID:calendify-session-awKMmlxaOmP
DTSTART:20231228T161500Z
SEQUENCE:0
TRANSP:OPAQUE
DTEND:20231228T171500Z
URL:https://calendify.com/session/awKMmlxaOmP
LOCATION:Saal 1
SUMMARY:Synthetic Sentience
CLASS:PUBLIC
DESCRIPTION:https://calendify.com/session/awKMmlxaOmP
DTSTAMP:20260423T030657Z
CREATED:20231215T204819Z
LAST-MODIFIED:20240401T142932Z
END:VEVENT
END:VCALENDAR