BEGIN:VCALENDAR
VERSION:2.0
PRODID:calendify.com
BEGIN:VEVENT
UID:calendify-session-awKMmp0nOmP
DTSTART:20220521T130000Z
SEQUENCE:0
TRANSP:OPAQUE
DTEND:20220521T163000Z
URL:https://calendify.com/session/awKMmp0nOmP
LOCATION:Raum 115
SUMMARY:Arduino For Total Newbies workshop
CLASS:PUBLIC
DESCRIPTION:https://calendify.com/session/awKMmp0nOmP
DTSTAMP:20260423T214644Z
CREATED:20220502T005753Z
LAST-MODIFIED:20220521T215002Z
END:VEVENT
END:VCALENDAR