BEGIN:VCALENDAR
VERSION:2.0
PRODID:calendify.com
BEGIN:VEVENT
UID:calendify-session-awKMmp5JOmP
DTSTART:20220611T100000Z
SEQUENCE:0
TRANSP:OPAQUE
DTEND:20220611T105000Z
URL:https://calendify.com/session/awKMmp5JOmP
LOCATION:The .txt Beach
SUMMARY:“DIE NEUE WELT” - Eine interaktive Session über ein Buch\, das
  unendlich viele Autoren hat. Und über Worte\, die ins Tun kommen
CLASS:PUBLIC
DESCRIPTION:https://calendify.com/session/awKMmp5JOmP
DTSTAMP:20260423T095721Z
CREATED:20220526T162948Z
LAST-MODIFIED:20220613T235204Z
END:VEVENT
END:VCALENDAR