BEGIN:VCALENDAR
VERSION:2.0
PRODID:calendify.com
BEGIN:VEVENT
UID:calendify-session-awKMmpEQOmP
DTSTART:20161229T214500Z
SEQUENCE:0
TRANSP:OPAQUE
DTEND:20161229T221500Z
URL:https://calendify.com/session/awKMmpEQOmP
LOCATION:Saal 6
SUMMARY:The 12 Networking Truths
CLASS:PUBLIC
DESCRIPTION:https://calendify.com/session/awKMmpEQOmP
DTSTAMP:20260420T150040Z
CREATED:20220415T135303Z
LAST-MODIFIED:20220415T135303Z
END:VEVENT
END:VCALENDAR