BEGIN:VCALENDAR
VERSION:2.0
PRODID:calendify.com
BEGIN:VEVENT
UID:calendify-session-awKMmpKXOmP
DTSTART:20220206T131000Z
SEQUENCE:0
TRANSP:OPAQUE
DTEND:20220206T134000Z
URL:https://calendify.com/session/awKMmpKXOmP
LOCATION:D.matrix
SUMMARY:Ansible + Matrix: Through The Looking Glass
CLASS:PUBLIC
DESCRIPTION:https://calendify.com/session/awKMmpKXOmP
DTSTAMP:20260420T080625Z
CREATED:20220120T214608Z
LAST-MODIFIED:20220206T225004Z
END:VEVENT
END:VCALENDAR