BEGIN:VCALENDAR
VERSION:2.0
PRODID:calendify.com
BEGIN:VEVENT
UID:calendify-session-awKMmpQNOmP
DTSTART:20220522T111500Z
SEQUENCE:0
TRANSP:OPAQUE
DTEND:20220522T120000Z
URL:https://calendify.com/session/awKMmpQNOmP
LOCATION:Medientheater
SUMMARY:Infrastructure Review
CLASS:PUBLIC
DESCRIPTION:https://calendify.com/session/awKMmpQNOmP
DTSTAMP:20260422T143202Z
CREATED:20220502T005753Z
LAST-MODIFIED:20220521T215002Z
END:VEVENT
END:VCALENDAR