BEGIN:VCALENDAR
VERSION:2.0
PRODID:calendify.com
BEGIN:VEVENT
UID:calendify-session-awKMmpVXOmP
DTSTART:20220206T120000Z
SEQUENCE:0
TRANSP:OPAQUE
DTEND:20220206T123000Z
URL:https://calendify.com/session/awKMmpVXOmP
LOCATION:D.postgresql
SUMMARY:PostgreSQL Distributed & Secure Database Ecosystem Building
CLASS:PUBLIC
DESCRIPTION:https://calendify.com/session/awKMmpVXOmP
DTSTAMP:20260422T203821Z
CREATED:20220120T214609Z
LAST-MODIFIED:20220206T225004Z
END:VEVENT
END:VCALENDAR