BEGIN:VCALENDAR
VERSION:2.0
PRODID:calendify.com
BEGIN:VEVENT
UID:calendify-session-awKMmpXXOmP
DTSTART:20220206T152000Z
SEQUENCE:0
TRANSP:OPAQUE
DTEND:20220206T154000Z
URL:https://calendify.com/session/awKMmpXXOmP
LOCATION:D.dependency
SUMMARY:On Backporting Practices in Package Dependency Networks
CLASS:PUBLIC
DESCRIPTION:https://calendify.com/session/awKMmpXXOmP
DTSTAMP:20260422T124127Z
CREATED:20220120T214609Z
LAST-MODIFIED:20220206T225004Z
END:VEVENT
END:VCALENDAR