BEGIN:VCALENDAR
VERSION:2.0
PRODID:calendify.com
BEGIN:VEVENT
UID:calendify-session-awKMmpbZOmP
DTSTART:20151229T173000Z
SEQUENCE:0
TRANSP:OPAQUE
DTEND:20151229T183000Z
URL:https://calendify.com/session/awKMmpbZOmP
LOCATION:Hall 6
SUMMARY:3D printing on the moon
CLASS:PUBLIC
DESCRIPTION:https://calendify.com/session/awKMmpbZOmP
DTSTAMP:20260421T184829Z
CREATED:20220415T142918Z
LAST-MODIFIED:20220415T142918Z
END:VEVENT
END:VCALENDAR