BEGIN:VCALENDAR
VERSION:2.0
PRODID:calendify.com
BEGIN:VEVENT
UID:calendify-session-awKMmrLRgmP
DTSTART:20210207T160000Z
SEQUENCE:0
TRANSP:OPAQUE
DTEND:20210207T163000Z
URL:https://calendify.com/session/awKMmrLRgmP
LOCATION:D.python
SUMMARY:How to get started with GitLab CI and Python
CLASS:PUBLIC
DESCRIPTION:https://calendify.com/session/awKMmrLRgmP
DTSTAMP:20260419T182209Z
CREATED:20210114T155443Z
LAST-MODIFIED:20210208T224804Z
END:VEVENT
END:VCALENDAR