BEGIN:VCALENDAR
VERSION:2.0
PRODID:calendify.com
BEGIN:VEVENT
UID:calendify-session-awKMmrNzgmP
DTSTART:20210206T114500Z
SEQUENCE:0
TRANSP:OPAQUE
DTEND:20210206T121000Z
URL:https://calendify.com/session/awKMmrNzgmP
LOCATION:D.research
SUMMARY:Emacs and org-mode for reproducible research
CLASS:PUBLIC
DESCRIPTION:https://calendify.com/session/awKMmrNzgmP
DTSTAMP:20260424T035912Z
CREATED:20210111T170319Z
LAST-MODIFIED:20210208T224803Z
END:VEVENT
END:VCALENDAR