BEGIN:VCALENDAR
VERSION:2.0
PRODID:calendify.com
BEGIN:VEVENT
UID:calendify-session-awKMmraZgmP
DTSTART:20210206T083000Z
SEQUENCE:0
TRANSP:OPAQUE
DTEND:20210206T090000Z
URL:https://calendify.com/session/awKMmraZgmP
LOCATION:S.openwifi
SUMMARY:Welcome to the stand for openwifi
CLASS:PUBLIC
DESCRIPTION:https://calendify.com/session/awKMmraZgmP
DTSTAMP:20260419T223532Z
CREATED:20210125T190821Z
LAST-MODIFIED:20210208T224803Z
END:VEVENT
END:VCALENDAR