BEGIN:VCALENDAR
VERSION:2.0
PRODID:calendify.com
BEGIN:VEVENT
UID:calendify-session-awKMmrmQgmP
DTSTART:20210206T120000Z
SEQUENCE:0
TRANSP:OPAQUE
DTEND:20210206T121000Z
URL:https://calendify.com/session/awKMmrmQgmP
LOCATION:D.openchain
SUMMARY:Openchain overview
CLASS:PUBLIC
DESCRIPTION:https://calendify.com/session/awKMmrmQgmP
DTSTAMP:20260419T211935Z
CREATED:20210118T190822Z
LAST-MODIFIED:20210208T224802Z
END:VEVENT
END:VCALENDAR