BEGIN:VCALENDAR
VERSION:2.0
PRODID:calendify.com
BEGIN:VEVENT
UID:calendify-session-awKMmrpzgmP
DTSTART:20210206T140500Z
SEQUENCE:0
TRANSP:OPAQUE
DTEND:20210206T150500Z
URL:https://calendify.com/session/awKMmrpzgmP
LOCATION:D.microkernel
SUMMARY:State of Microkernels in 2021
CLASS:PUBLIC
DESCRIPTION:https://calendify.com/session/awKMmrpzgmP
DTSTAMP:20260421T151659Z
CREATED:20210111T170319Z
LAST-MODIFIED:20210208T224802Z
END:VEVENT
END:VCALENDAR