BEGIN:VCALENDAR
VERSION:2.0
PRODID:calendify.com
BEGIN:VEVENT
UID:calendify-session-awKMmrqZgmP
DTSTART:20210206T100000Z
SEQUENCE:0
TRANSP:OPAQUE
DTEND:20210206T104500Z
URL:https://calendify.com/session/awKMmrqZgmP
LOCATION:S.checkmk
SUMMARY:Technical Demo (DevOps)
CLASS:PUBLIC
DESCRIPTION:https://calendify.com/session/awKMmrqZgmP
DTSTAMP:20260423T105606Z
CREATED:20210131T190821Z
LAST-MODIFIED:20210208T224803Z
END:VEVENT
END:VCALENDAR