BEGIN:VCALENDAR
VERSION:2.0
PRODID:calendify.com
BEGIN:VEVENT
UID:calendify-session-awKMmrrNgmP
DTSTART:20210206T143000Z
SEQUENCE:0
TRANSP:OPAQUE
DTEND:20210206T145500Z
URL:https://calendify.com/session/awKMmrrNgmP
LOCATION:D.distributions
SUMMARY:Why Public Database as a Service is Prime for Open Source Distribut
 ion
CLASS:PUBLIC
DESCRIPTION:https://calendify.com/session/awKMmrrNgmP
DTSTAMP:20260419T211352Z
CREATED:20210111T170318Z
LAST-MODIFIED:20210208T224802Z
END:VEVENT
END:VCALENDAR