BEGIN:VCALENDAR
VERSION:2.0
PRODID:calendify.com
BEGIN:VEVENT
UID:calendify-session-awKMmrxGgmP
DTSTART:20210207T135000Z
SEQUENCE:0
TRANSP:OPAQUE
DTEND:20210207T142000Z
URL:https://calendify.com/session/awKMmrxGgmP
LOCATION:D.radio
SUMMARY:A modular future for GNU Radio
CLASS:PUBLIC
DESCRIPTION:https://calendify.com/session/awKMmrxGgmP
DTSTAMP:20260420T140923Z
CREATED:20210111T170320Z
LAST-MODIFIED:20210208T224804Z
END:VEVENT
END:VCALENDAR