BEGIN:VCALENDAR
VERSION:2.0
PRODID:calendify.com
BEGIN:VEVENT
UID:calendify-session-awKMmw1N4mP
DTSTART:20180510T203000Z
SEQUENCE:0
TRANSP:OPAQUE
DTEND:20180510T213000Z
URL:https://calendify.com/session/awKMmw1N4mP
LOCATION:ZKM_CodeHUB
SUMMARY:Domain-Automatisierung mit cryptdomainmgr
CLASS:PUBLIC
DESCRIPTION:https://calendify.com/session/awKMmw1N4mP
DTSTAMP:20260422T015322Z
CREATED:20200513T011827Z
LAST-MODIFIED:20200513T011827Z
END:VEVENT
END:VCALENDAR