BEGIN:VCALENDAR
VERSION:2.0
PRODID:calendify.com
BEGIN:VEVENT
UID:calendify-session-awKMmw5a4mP
DTSTART:20200202T100000Z
SEQUENCE:0
TRANSP:OPAQUE
DTEND:20200202T105000Z
URL:https://calendify.com/session/awKMmw5a4mP
LOCATION:Janson
SUMMARY:The core values of software freedom
CLASS:PUBLIC
DESCRIPTION:https://calendify.com/session/awKMmw5a4mP
DTSTAMP:20260423T073424Z
CREATED:20200513T234731Z
LAST-MODIFIED:20210426T093308Z
END:VEVENT
END:VCALENDAR