BEGIN:VCALENDAR
VERSION:2.0
PRODID:calendify.com
BEGIN:VEVENT
UID:calendify-session-awKMmw9J4mP
DTSTART:20200202T140000Z
SEQUENCE:0
TRANSP:OPAQUE
DTEND:20200202T145000Z
URL:https://calendify.com/session/awKMmw9J4mP
LOCATION:H.2214
SUMMARY:The State of (Full) Text Search in PostgreSQL 12
CLASS:PUBLIC
DESCRIPTION:https://calendify.com/session/awKMmw9J4mP
DTSTAMP:20260423T231008Z
CREATED:20200513T234734Z
LAST-MODIFIED:20210426T093310Z
END:VEVENT
END:VCALENDAR