BEGIN:VCALENDAR
VERSION:2.0
PRODID:calendify.com
BEGIN:VEVENT
UID:calendify-session-awKMmwBz4mP
DTSTART:20180511T190000Z
SEQUENCE:0
TRANSP:OPAQUE
DTEND:20180511T200000Z
URL:https://calendify.com/session/awKMmwBz4mP
LOCATION:ZKM_AckerSpace
SUMMARY:Editieren unter Unix mit ed(1)
CLASS:PUBLIC
DESCRIPTION:https://calendify.com/session/awKMmwBz4mP
DTSTAMP:20260422T015318Z
CREATED:20200513T011828Z
LAST-MODIFIED:20200513T011828Z
END:VEVENT
END:VCALENDAR