BEGIN:VCALENDAR
VERSION:2.0
PRODID:calendify.com
BEGIN:VEVENT
UID:calendify-session-awKMmwEQ4mP
DTSTART:20190531T101500Z
SEQUENCE:0
TRANSP:OPAQUE
DTEND:20190531T111500Z
URL:https://calendify.com/session/awKMmwEQ4mP
LOCATION:ZKM_Vortragssaal
SUMMARY:Survival außerhalb der Cobol Gruft
CLASS:PUBLIC
DESCRIPTION:https://calendify.com/session/awKMmwEQ4mP
DTSTAMP:20260422T023220Z
CREATED:20200509T115105Z
LAST-MODIFIED:20200509T115105Z
END:VEVENT
END:VCALENDAR