BEGIN:VCALENDAR
VERSION:2.0
PRODID:calendify.com
BEGIN:VEVENT
UID:calendify-session-awKMmwPG4mP
DTSTART:20200201T125000Z
SEQUENCE:0
TRANSP:OPAQUE
DTEND:20200201T133000Z
URL:https://calendify.com/session/awKMmwPG4mP
LOCATION:K.4.201
SUMMARY:LLVM meets Code Property Graphs
CLASS:PUBLIC
DESCRIPTION:https://calendify.com/session/awKMmwPG4mP
DTSTAMP:20260423T151049Z
CREATED:20200513T234730Z
LAST-MODIFIED:20210426T093308Z
END:VEVENT
END:VCALENDAR