BEGIN:VCALENDAR
VERSION:2.0
PRODID:calendify.com
BEGIN:VEVENT
UID:calendify-session-awKMmwPX4mP
DTSTART:20200201T135500Z
SEQUENCE:0
TRANSP:OPAQUE
DTEND:20200201T140000Z
URL:https://calendify.com/session/awKMmwPX4mP
LOCATION:K.3.401
SUMMARY:Welcome to the Retrocomputing DevRoom 2020
CLASS:PUBLIC
DESCRIPTION:https://calendify.com/session/awKMmwPX4mP
DTSTAMP:20260421T230551Z
CREATED:20200513T234730Z
LAST-MODIFIED:20210426T093308Z
END:VEVENT
END:VCALENDAR