BEGIN:VCALENDAR
VERSION:2.0
PRODID:calendify.com
BEGIN:VEVENT
UID:calendify-session-awKMmwWZ4mP
DTSTART:20200202T121000Z
SEQUENCE:0
TRANSP:OPAQUE
DTEND:20200202T123500Z
URL:https://calendify.com/session/awKMmwWZ4mP
LOCATION:UD2.120 (Chavanne)
SUMMARY:Secret History of Prometheus Histograms
CLASS:PUBLIC
DESCRIPTION:https://calendify.com/session/awKMmwWZ4mP
DTSTAMP:20260423T062542Z
CREATED:20200513T234735Z
LAST-MODIFIED:20210426T093310Z
END:VEVENT
END:VCALENDAR