BEGIN:VCALENDAR
VERSION:2.0
PRODID:calendify.com
BEGIN:VEVENT
UID:calendify-session-awKMmwxn4mP
DTSTART:20190824T110000Z
SEQUENCE:0
TRANSP:OPAQUE
DTEND:20190824T114500Z
URL:https://calendify.com/session/awKMmwxn4mP
LOCATION:Curie
SUMMARY:Technopolice: calling out so-called \"Safe Cities\"
CLASS:PUBLIC
DESCRIPTION:https://calendify.com/session/awKMmwxn4mP
DTSTAMP:20260423T040221Z
CREATED:20200513T001655Z
LAST-MODIFIED:20200513T003255Z
END:VEVENT
END:VCALENDAR