BEGIN:VCALENDAR
VERSION:2.0
PRODID:calendify.com
BEGIN:VEVENT
UID:calendify-session-d5yOD1aZMJj
DTSTART:20260201T113500Z
SEQUENCE:0
TRANSP:OPAQUE
DTEND:20260201T120000Z
URL:https://calendify.com/session/d5yOD1aZMJj
LOCATION:H.2214
SUMMARY:Cockpit and passwordless login
CLASS:PUBLIC
DESCRIPTION:https://calendify.com/session/d5yOD1aZMJj
DTSTAMP:20260424T083534Z
CREATED:20260131T063315Z
LAST-MODIFIED:20260201T163231Z
END:VEVENT
END:VCALENDAR