BEGIN:VCALENDAR
VERSION:2.0
PRODID:calendify.com
BEGIN:VEVENT
UID:calendify-session-d5yOD53lMJj
DTSTART:20230610T161500Z
SEQUENCE:0
TRANSP:OPAQUE
DTEND:20230610T174500Z
URL:https://calendify.com/session/d5yOD53lMJj
LOCATION:Lounge DJ & Artists
SUMMARY:NikTheDusky
CLASS:PUBLIC
DESCRIPTION:https://calendify.com/session/d5yOD53lMJj
DTSTAMP:20260423T150752Z
CREATED:20230604T134036Z
LAST-MODIFIED:20230611T215002Z
END:VEVENT
END:VCALENDAR