BEGIN:VCALENDAR
VERSION:2.0
PRODID:calendify.com
BEGIN:VEVENT
UID:calendify-session-d5yOD5GpMJj
DTSTART:20230605T130000Z
SEQUENCE:0
TRANSP:OPAQUE
DTEND:20230605T140000Z
URL:https://calendify.com/session/d5yOD5GpMJj
LOCATION:Workshop Glashaus
SUMMARY:Cash von der Crowd – Wie Crowdfunding dreckige Weinflaschen in 4\
 ,4 Millionen Euro Spenden für Flutopfer verwandelt hat
CLASS:PUBLIC
DESCRIPTION:https://calendify.com/session/d5yOD5GpMJj
DTSTAMP:20260423T151955Z
CREATED:20230604T163806Z
LAST-MODIFIED:20230606T124205Z
END:VEVENT
END:VCALENDAR