BEGIN:VCALENDAR
VERSION:2.0
PRODID:calendify.com
BEGIN:VEVENT
UID:calendify-session-d5yOD5pmMJj
DTSTART:20230407T190000Z
SEQUENCE:0
TRANSP:OPAQUE
DTEND:20230407T195000Z
URL:https://calendify.com/session/d5yOD5pmMJj
LOCATION:K2 Rahel Liebeschütz-Plaut
SUMMARY:Chatkontrolle - Mehr Überwachung für alle
CLASS:PUBLIC
DESCRIPTION:https://calendify.com/session/d5yOD5pmMJj
DTSTAMP:20260422T150956Z
CREATED:20230309T185708Z
LAST-MODIFIED:20230409T215003Z
END:VEVENT
END:VCALENDAR