BEGIN:VCALENDAR
VERSION:2.0
PRODID:calendify.com
BEGIN:VEVENT
UID:calendify-session-d5yOD81lOJj
DTSTART:20240922T103000Z
SEQUENCE:0
TRANSP:OPAQUE
DTEND:20240922T111500Z
URL:https://calendify.com/session/d5yOD81lOJj
LOCATION:Kabinett
SUMMARY:Linux \"Hello World!\" nur mit einem Hex Editor
CLASS:PUBLIC
DESCRIPTION:https://calendify.com/session/d5yOD81lOJj
DTSTAMP:20260420T235500Z
CREATED:20241208T220338Z
LAST-MODIFIED:20241208T220338Z
END:VEVENT
END:VCALENDAR