BEGIN:VCALENDAR
VERSION:2.0
PRODID:calendify.com
BEGIN:VEVENT
UID:calendify-session-d5yOD88oOJj
DTSTART:20240920T180000Z
SEQUENCE:0
TRANSP:OPAQUE
DTEND:20240920T191500Z
URL:https://calendify.com/session/d5yOD88oOJj
LOCATION:Henny Brenner Saal
SUMMARY:Struggles against right wing-government in Finland
CLASS:PUBLIC
DESCRIPTION:https://calendify.com/session/d5yOD88oOJj
DTSTAMP:20260422T165047Z
CREATED:20241208T220338Z
LAST-MODIFIED:20241208T220338Z
END:VEVENT
END:VCALENDAR