BEGIN:VCALENDAR
VERSION:2.0
PRODID:calendify.com
BEGIN:VEVENT
UID:calendify-session-d5yOD8L1OJj
DTSTART:20241227T130000Z
SEQUENCE:0
TRANSP:OPAQUE
DTEND:20241227T135000Z
URL:https://calendify.com/session/d5yOD8L1OJj
LOCATION:Saal 5
SUMMARY:Keine Nullen\, keine Einsen\, keine Panik - Willkommen in der Welt 
 des analog computing
CLASS:PUBLIC
DESCRIPTION:https://calendify.com/session/d5yOD8L1OJj
DTSTAMP:20260423T122429Z
CREATED:20241227T141459Z
LAST-MODIFIED:20250101T225002Z
END:VEVENT
END:VCALENDAR