BEGIN:VCALENDAR
VERSION:2.0
PRODID:calendify.com
BEGIN:VEVENT
UID:calendify-session-d5yOD8r5OJj
DTSTART:20241227T125000Z
SEQUENCE:0
TRANSP:OPAQUE
DTEND:20241227T133000Z
URL:https://calendify.com/session/d5yOD8r5OJj
LOCATION:Saal ZIGZAG
SUMMARY:Clay PCB
CLASS:PUBLIC
DESCRIPTION:https://calendify.com/session/d5yOD8r5OJj
DTSTAMP:20260419T150758Z
CREATED:20241208T214807Z
LAST-MODIFIED:20250105T163814Z
END:VEVENT
END:VCALENDAR