BEGIN:VCALENDAR
VERSION:2.0
PRODID:calendify.com
BEGIN:VEVENT
UID:calendify-session-d5yODA2ZMJj
DTSTART:20220521T154500Z
SEQUENCE:0
TRANSP:OPAQUE
DTEND:20220521T164500Z
URL:https://calendify.com/session/d5yODA2ZMJj
LOCATION:Medientheater
SUMMARY:After the Metaverse: An Introduction to Brain–machine interfaces
CLASS:PUBLIC
DESCRIPTION:https://calendify.com/session/d5yODA2ZMJj
DTSTAMP:20260422T160019Z
CREATED:20220502T005752Z
LAST-MODIFIED:20220521T215002Z
END:VEVENT
END:VCALENDAR