BEGIN:VCALENDAR
VERSION:2.0
PRODID:calendify.com
BEGIN:VEVENT
UID:calendify-session-d5yODA5JMJj
DTSTART:20161228T220000Z
SEQUENCE:0
TRANSP:OPAQUE
DTEND:20161228T230000Z
URL:https://calendify.com/session/d5yODA5JMJj
LOCATION:Saal 1
SUMMARY:Durchmarsch von Rechts
CLASS:PUBLIC
DESCRIPTION:https://calendify.com/session/d5yODA5JMJj
DTSTAMP:20260422T124006Z
CREATED:20220415T135303Z
LAST-MODIFIED:20220415T135303Z
END:VEVENT
END:VCALENDAR