BEGIN:VCALENDAR
VERSION:2.0
PRODID:calendify.com
BEGIN:VEVENT
UID:calendify-session-d5yODALZMJj
DTSTART:20220723T160000Z
SEQUENCE:0
TRANSP:OPAQUE
DTEND:20220723T163000Z
URL:https://calendify.com/session/d5yODALZMJj
LOCATION:Battery 🔋
SUMMARY:Don't turn your back on Ransomware!
CLASS:PUBLIC
DESCRIPTION:https://calendify.com/session/d5yODALZMJj
DTSTAMP:20260423T214357Z
CREATED:20220620T212436Z
LAST-MODIFIED:20220726T182703Z
END:VEVENT
END:VCALENDAR